BEGIN:VCALENDAR
VERSION:2.0
PRODID:-//Swiss Archeodivers - ECPv5.16.4//NONSGML v1.0//EN
CALSCALE:GREGORIAN
METHOD:PUBLISH
X-ORIGINAL-URL:https://www.archeodivers.ch
X-WR-CALDESC:Events for Swiss Archeodivers
REFRESH-INTERVAL;VALUE=DURATION:PT1H
X-Robots-Tag:noindex
X-PUBLISHED-TTL:PT1H
BEGIN:VTIMEZONE
TZID:Europe/Berlin
BEGIN:DAYLIGHT
TZOFFSETFROM:+0100
TZOFFSETTO:+0200
TZNAME:CEST
DTSTART:20210328T010000
END:DAYLIGHT
BEGIN:STANDARD
TZOFFSETFROM:+0200
TZOFFSETTO:+0100
TZNAME:CET
DTSTART:20211031T010000
END:STANDARD
END:VTIMEZONE
BEGIN:VEVENT
DTSTART;VALUE=DATE:20210711
DTEND;VALUE=DATE:20210712
DTSTAMP:20260422T192235
CREATED:20210628T124705Z
LAST-MODIFIED:20210628T124705Z
UID:816-1625961600-1626047999@www.archeodivers.ch
SUMMARY:Grilltauchen 2021
DESCRIPTION:Wir führen dieses Jahr unser Grilltauchen zusammen mit dem Tauchklub Zürichsee in Betlis durch.
URL:https://www.archeodivers.ch/event/grilltauchen-2021/
END:VEVENT
END:VCALENDAR